BEGIN:VCALENDAR
VERSION:2.0
PRODID:-//eventon.com NONSGML v1.0//EN
CALSCALE:GREGORIAN
METHOD:PUBLISH
BEGIN:VEVENT
UID:69e68c9883b33
DTSTAMP:20260420T202912Z
DTSTART:20251028T130000Z
DTEND:20251028T190000Z
LOCATION:Golfclub Ravensberger Land e.V. Golfclub Ravensberger Land e.V.
SUMMARY:Ladiesday Abschlußturnier 2025
DESCRIPTION:Ladiesday Abschlußturnier 2025 Turnier abgesagt wegen schlecht
 en Wetters. 17 Uhr: Treffen zum Essen und gemütlichen Abend\nhttps://www.g
 olfclub-ravensberger-land.de/termine/ladiesday-abschlussturnier-2025/
URL:https://www.golfclub-ravensberger-land.de/termine/ladiesday-abschlussturnier-2025/
END:VEVENT
END:VCALENDAR