BEGIN:VCALENDAR
VERSION:2.0
PRODID:-//eventon.com NONSGML v1.0//EN
CALSCALE:GREGORIAN
METHOD:PUBLISH
BEGIN:VEVENT
UID:69e68a969d3ad
DTSTAMP:20260420T202038Z
DTSTART:20250403T103000Z
DTEND:20250403T163000Z
LOCATION:Golfclub Ravensberger Land e.V. Golfclub Ravensberger Land e.V.
SUMMARY:Senioren Jahresanspiel-Turnier
DESCRIPTION:Senioren Jahresanspiel-Turnier Chapman-Vierer &#8211; Zählspie
 lMax &#8211; 18-Loch\nhttps://www.golfclub-ravensberger-land.de/termine/sen
 ioren-jahresanspiel-turnier-3/
URL:https://www.golfclub-ravensberger-land.de/termine/senioren-jahresanspiel-turnier-3/
END:VEVENT
END:VCALENDAR