BEGIN:VCALENDAR
VERSION:2.0
PRODID:-//eventon.com NONSGML v1.0//EN
CALSCALE:GREGORIAN
METHOD:PUBLISH
BEGIN:VEVENT
UID:69e6c902974ee
DTSTAMP:20260421T004658Z
DTSTART:20250410T103000Z
DTEND:20250410T163000Z
LOCATION:Golfclub Ravensberger Land e.V. Golfclub Ravensberger Land e.V.
SUMMARY:Senioren
DESCRIPTION:Senioren Einzel &#8211; Zählspiel &#8211; 18-Loch\nhttps://www
 .golfclub-ravensberger-land.de/termine/senioren/
URL:https://www.golfclub-ravensberger-land.de/termine/senioren/
END:VEVENT
END:VCALENDAR