BEGIN:VCALENDAR
VERSION:2.0
PRODID:-//eventon.com NONSGML v1.0//EN
CALSCALE:GREGORIAN
METHOD:PUBLISH
BEGIN:VEVENT
UID:69e6af652ca45
DTSTAMP:20260420T225741Z
DTSTART:20250417T103000Z
DTEND:20250417T163000Z
LOCATION:Golfclub Ravensberger Land e.V. Golfclub Ravensberger Land e.V.
SUMMARY:Senioren
DESCRIPTION:Senioren Einzel &#8211; Stableford &#8211; 18-Loch\nhttps://www
 .golfclub-ravensberger-land.de/termine/senioren-2/
URL:https://www.golfclub-ravensberger-land.de/termine/senioren-2/
END:VEVENT
END:VCALENDAR