BEGIN:VCALENDAR
VERSION:2.0
PRODID:-//eventon.com NONSGML v1.0//EN
CALSCALE:GREGORIAN
METHOD:PUBLISH
BEGIN:VEVENT
UID:69e6996536c47
DTSTAMP:20260420T212349Z
DTSTART:20250703T123000Z
DTEND:20250703T183000Z
LOCATION:Golfclub Ravensberger Land e.V. Golfclub Ravensberger Land e.V.
SUMMARY:Senioren - PlanetGolf
DESCRIPTION:Senioren &#8211; PlanetGolf Einzel &#8211; Zählspiel &#8211; 1
 8-Loch\nhttps://www.golfclub-ravensberger-land.de/termine/senioren-planetgo
 lf/
URL:https://www.golfclub-ravensberger-land.de/termine/senioren-planetgolf/
END:VEVENT
END:VCALENDAR