BEGIN:VCALENDAR
VERSION:2.0
PRODID:-//eventon.com NONSGML v1.0//EN
CALSCALE:GREGORIAN
METHOD:PUBLISH
BEGIN:VEVENT
UID:69e69946b0070
DTSTAMP:20260420T212318Z
DTSTART:20250724T123000Z
DTEND:20250724T183000Z
LOCATION:Golfclub Ravensberger Land e.V. Golfclub Ravensberger Land e.V.
SUMMARY:Senioren - Strawberry
DESCRIPTION:Senioren &#8211; Strawberry Einzel &#8211; Zählspiel &#8211; 1
 8-Loch\nhttps://www.golfclub-ravensberger-land.de/termine/senioren-strawber
 ry/
URL:https://www.golfclub-ravensberger-land.de/termine/senioren-strawberry/
END:VEVENT
END:VCALENDAR