BEGIN:VCALENDAR
VERSION:2.0
PRODID:-//eventon.com NONSGML v1.0//EN
CALSCALE:GREGORIAN
METHOD:PUBLISH
BEGIN:VEVENT
UID:69e685a206f61
DTSTAMP:20260420T195930Z
DTSTART:20250807T123000Z
DTEND:20250807T183000Z
LOCATION:Golfclub Ravensberger Land e.V. Golfclub Ravensberger Land e.V.
SUMMARY:Senioren
DESCRIPTION:Senioren Einzel &#8211; Zählspiel &#8211; 18-Loch\nhttps://www
 .golfclub-ravensberger-land.de/termine/senioren-29/
URL:https://www.golfclub-ravensberger-land.de/termine/senioren-29/
END:VEVENT
END:VCALENDAR