BEGIN:VCALENDAR
VERSION:2.0
PRODID:-//eventon.com NONSGML v1.0//EN
CALSCALE:GREGORIAN
METHOD:PUBLISH
BEGIN:VEVENT
UID:69e689ed459a2
DTSTAMP:20260420T201749Z
DTSTART:20250814T123000Z
DTEND:20250814T235900Z
LOCATION:Golfclub Ravensberger Land e.V. Golfclub Ravensberger Land e.V.
SUMMARY:Senioren
DESCRIPTION:Senioren Einzel &#8211; Maxscore &#8211; 18-Loch\nhttps://www.g
 olfclub-ravensberger-land.de/termine/senioren-3-club-turnier/
URL:https://www.golfclub-ravensberger-land.de/termine/senioren-3-club-turnier/
END:VEVENT
END:VCALENDAR