BEGIN:VCALENDAR
VERSION:2.0
PRODID:-//eventon.com NONSGML v1.0//EN
CALSCALE:GREGORIAN
METHOD:PUBLISH
BEGIN:VEVENT
UID:69e6d1db9dd70
DTSTAMP:20260421T012443Z
DTSTART:20250821T123000Z
DTEND:20250821T183000Z
LOCATION:Golfclub Ravensberger Land e.V. Golfclub Ravensberger Land e.V.
SUMMARY:Senioren
DESCRIPTION:Senioren Einzel &#8211; ZählspielMax &#8211; 18 und 9-Loch\nht
 tps://www.golfclub-ravensberger-land.de/termine/senioren-30/
URL:https://www.golfclub-ravensberger-land.de/termine/senioren-30/
END:VEVENT
END:VCALENDAR