BEGIN:VCALENDAR
VERSION:2.0
PRODID:-//eventon.com NONSGML v1.0//EN
CALSCALE:GREGORIAN
METHOD:PUBLISH
BEGIN:VEVENT
UID:69e686ac9c391
DTSTAMP:20260420T200356Z
DTSTART:20250911T123000Z
DTEND:20250911T183000Z
LOCATION:Golfclub Ravensberger Land e.V. Golfclub Ravensberger Land e.V.
SUMMARY:Senioren
DESCRIPTION:Senioren Einzel &#8211; Stableford &#8211; 18-Loch\nhttps://www
 .golfclub-ravensberger-land.de/termine/senioren-32/
URL:https://www.golfclub-ravensberger-land.de/termine/senioren-32/
END:VEVENT
END:VCALENDAR