BEGIN:VCALENDAR
VERSION:2.0
PRODID:-//eventon.com NONSGML v1.0//EN
CALSCALE:GREGORIAN
METHOD:PUBLISH
BEGIN:VEVENT
UID:69e6860a8011d
DTSTAMP:20260420T200114Z
DTSTART:20251002T123000Z
DTEND:20251002T183000Z
LOCATION:Golfclub Ravensberger Land e.V. Golfclub Ravensberger Land e.V.
SUMMARY:Senioren
DESCRIPTION:Senioren Einzel &#8211; Zählspiel &#8211; 18-Loch\nhttps://www
 .golfclub-ravensberger-land.de/termine/senioren-35/
URL:https://www.golfclub-ravensberger-land.de/termine/senioren-35/
END:VEVENT
END:VCALENDAR