BEGIN:VCALENDAR
VERSION:2.0
PRODID:-//eventon.com NONSGML v1.0//EN
CALSCALE:GREGORIAN
METHOD:PUBLISH
BEGIN:VEVENT
UID:69e6af1fc30b9
DTSTAMP:20260420T225631Z
DTSTART:20251023T120000Z
DTEND:20251023T180000Z
LOCATION:Golfclub Ravensberger Land e.V. Golfclub Ravensberger Land e.V.
SUMMARY:Senioren
DESCRIPTION:Senioren Scramble &#8211; ZählspielMax &#8211; 18-Loch\nhttps:
 //www.golfclub-ravensberger-land.de/termine/senioren-38/
URL:https://www.golfclub-ravensberger-land.de/termine/senioren-38/
END:VEVENT
END:VCALENDAR