BEGIN:VCALENDAR
VERSION:2.0
PRODID:-//eventon.com NONSGML v1.0//EN
CALSCALE:GREGORIAN
METHOD:PUBLISH
BEGIN:VEVENT
UID:69e6af1fb91d2
DTSTAMP:20260420T225631Z
DTSTART:20250410T080000Z
DTEND:20250410T140000Z
LOCATION:Golfclub Ravensberger Land e.V. Golfclub Ravensberger Land e.V.
SUMMARY:Seniorinnen Eröffnungsspiel
DESCRIPTION:Seniorinnen Eröffnungsspiel Scramble &#8211; ZählspielMax &#8
 211; 18-Loch\nhttps://www.golfclub-ravensberger-land.de/termine/seniorinnen
 -eroeffnungsspiel-3/
URL:https://www.golfclub-ravensberger-land.de/termine/seniorinnen-eroeffnungsspiel-3/
END:VEVENT
END:VCALENDAR