BEGIN:VCALENDAR
VERSION:2.0
PRODID:-//eventon.com NONSGML v1.0//EN
CALSCALE:GREGORIAN
METHOD:PUBLISH
BEGIN:VEVENT
UID:69e6af2b594f9
DTSTAMP:20260420T225643Z
DTSTART:20250611T100000Z
DTEND:20250611T160000Z
LOCATION:Golfclub Ravensberger Land e.V. Golfclub Ravensberger Land e.V.
SUMMARY:Westfälische Golfseniorinnen
DESCRIPTION:Westfälische Golfseniorinnen Einzel &#8211; Stableford &#8211;
  18-Loch\nhttps://www.golfclub-ravensberger-land.de/termine/westfaelische-g
 olfseniorinnen-2/
URL:https://www.golfclub-ravensberger-land.de/termine/westfaelische-golfseniorinnen-2/
END:VEVENT
END:VCALENDAR