BEGIN:VCALENDAR
VERSION:2.0
PRODID:-//eventon.com NONSGML v1.0//EN
CALSCALE:GREGORIAN
METHOD:PUBLISH
BEGIN:VEVENT
UID:69e6899fa8ff4
DTSTAMP:20260420T201631Z
DTSTART:20250612T100000Z
DTEND:20250612T160000Z
LOCATION:Golfclub Ravensberger Land e.V. Golfclub Ravensberger Land e.V.
SUMMARY:Seniorinnen 18L
DESCRIPTION:Seniorinnen 18L Scramble &#8211; ZählspielMax &#8211; 18-Loch\
 nhttps://www.golfclub-ravensberger-land.de/termine/seniorinnen-18l-20/
URL:https://www.golfclub-ravensberger-land.de/termine/seniorinnen-18l-20/
END:VEVENT
END:VCALENDAR