BEGIN:VCALENDAR
VERSION:2.0
PRODID:-//eventon.com NONSGML v1.0//EN
CALSCALE:GREGORIAN
METHOD:PUBLISH
BEGIN:VEVENT
UID:69e68b5e14a4f
DTSTAMP:20260420T202358Z
DTSTART:20250626T100000Z
DTEND:20250626T160000Z
LOCATION:Golfclub Ravensberger Land e.V. Golfclub Ravensberger Land e.V.
SUMMARY:Seniorinnen 18/9 L - Hensel Turnier
DESCRIPTION:Seniorinnen 18/9 L &#8211; Hensel Turnier Einzel &#8211; Zähls
 pielMax &#8211; 18 und 9-Loch\nhttps://www.golfclub-ravensberger-land.de/te
 rmine/seniorinnen-18-9-l-hensel-turnier-2/
URL:https://www.golfclub-ravensberger-land.de/termine/seniorinnen-18-9-l-hensel-turnier-2/
END:VEVENT
END:VCALENDAR