BEGIN:VCALENDAR
VERSION:2.0
PRODID:-//eventon.com NONSGML v1.0//EN
CALSCALE:GREGORIAN
METHOD:PUBLISH
BEGIN:VEVENT
UID:69e688a5c4455
DTSTAMP:20260420T201221Z
DTSTART:20250710T080000Z
DTEND:20250710T140000Z
LOCATION:Golfclub Ravensberger Land e.V. Golfclub Ravensberger Land e.V.
SUMMARY:Seniorinnen 18/9 L
DESCRIPTION:Seniorinnen 18/9 L Einzel &#8211; ZählspielMax &#8211; 18 und 
 9-Loch\nhttps://www.golfclub-ravensberger-land.de/termine/seniorinnen-18-9-
 l-2/
URL:https://www.golfclub-ravensberger-land.de/termine/seniorinnen-18-9-l-2/
END:VEVENT
END:VCALENDAR