BEGIN:VCALENDAR
VERSION:2.0
PRODID:-//eventon.com NONSGML v1.0//EN
CALSCALE:GREGORIAN
METHOD:PUBLISH
BEGIN:VEVENT
UID:69e68b06cd9db
DTSTAMP:20260420T202230Z
DTSTART:20250715T130000Z
DTEND:20250715T235900Z
LOCATION:Golfclub Ravensberger Land e.V. Golfclub Ravensberger Land e.V.
SUMMARY:Die Damen und Seniorinnen laden die Herren und Senioren ein
DESCRIPTION:Die Damen und Seniorinnen laden die Herren und Senioren ein Scr
 amble &#8211; Zählspiel &#8211; 18-Loch\nhttps://www.golfclub-ravensberger
 -land.de/termine/die-seniorinnen-und-damen-laden-die-senioren-und-herren-ei
 n-2/
URL:https://www.golfclub-ravensberger-land.de/termine/die-seniorinnen-und-damen-laden-die-senioren-und-herren-ein-2/
END:VEVENT
END:VCALENDAR