BEGIN:VCALENDAR
VERSION:2.0
PRODID:-//eventon.com NONSGML v1.0//EN
CALSCALE:GREGORIAN
METHOD:PUBLISH
BEGIN:VEVENT
UID:69e68aa241d3f
DTSTAMP:20260420T202050Z
DTSTART:20250717T100000Z
DTEND:20250717T160000Z
LOCATION:Golfclub Ravensberger Land e.V. Golfclub Ravensberger Land e.V.
SUMMARY:Seniorinnen 18L - Aerifizierung
DESCRIPTION:Seniorinnen 18L &#8211; Aerifizierung Scramble &#8211; Zählspi
 elMax &#8211; 18-Loch\nhttps://www.golfclub-ravensberger-land.de/termine/se
 niorinnen-18l-aerifizierung/
URL:https://www.golfclub-ravensberger-land.de/termine/seniorinnen-18l-aerifizierung/
END:VEVENT
END:VCALENDAR