BEGIN:VCALENDAR
VERSION:2.0
PRODID:-//eventon.com NONSGML v1.0//EN
CALSCALE:GREGORIAN
METHOD:PUBLISH
BEGIN:VEVENT
UID:69e689b4954cd
DTSTAMP:20260420T201652Z
DTSTART:20250724T100000Z
DTEND:20250724T160000Z
LOCATION:Golfclub Ravensberger Land e.V. Golfclub Ravensberger Land e.V.
SUMMARY:Seniorinnen 18/9 L - Planetgolf
DESCRIPTION:Seniorinnen 18/9 L &#8211; Planetgolf Einzel &#8211; Zählspiel
 Max &#8211; 18 und 9-Loch\nhttps://www.golfclub-ravensberger-land.de/termin
 e/seniorinnen-18-9-l-planetgolf/
URL:https://www.golfclub-ravensberger-land.de/termine/seniorinnen-18-9-l-planetgolf/
END:VEVENT
END:VCALENDAR