BEGIN:VCALENDAR
VERSION:2.0
PRODID:-//eventon.com NONSGML v1.0//EN
CALSCALE:GREGORIAN
METHOD:PUBLISH
BEGIN:VEVENT
UID:69e686f4d9f6b
DTSTAMP:20260420T200508Z
DTSTART:20250716T133000Z
DTEND:20250716T193000Z
LOCATION:Golfclub Ravensberger Land e.V. Golfclub Ravensberger Land e.V.
SUMMARY:MensDay
DESCRIPTION:MensDay Scramble &#8211; ZählspielMax &#8211; 18-Loch\nhttps:/
 /www.golfclub-ravensberger-land.de/termine/mensday-11/
URL:https://www.golfclub-ravensberger-land.de/termine/mensday-11/
END:VEVENT
END:VCALENDAR