BEGIN:VCALENDAR
VERSION:2.0
PRODID:-//eventon.com NONSGML v1.0//EN
CALSCALE:GREGORIAN
METHOD:PUBLISH
BEGIN:VEVENT
UID:69e6aeb3d2b87
DTSTAMP:20260420T225443Z
DTSTART:20250917T133000Z
DTEND:20250917T193000Z
LOCATION:Golfclub Ravensberger Land e.V. Golfclub Ravensberger Land e.V.
SUMMARY:MensDay - 2er-Team Meisterschaft
DESCRIPTION:MensDay &#8211; 2er-Team Meisterschaft Vierer-Auswahldrive &#82
 11; ZählspielMax &#8211; 18-Loch\nhttps://www.golfclub-ravensberger-land.d
 e/termine/mensday-2er-team-meisterschaft/
URL:https://www.golfclub-ravensberger-land.de/termine/mensday-2er-team-meisterschaft/
END:VEVENT
END:VCALENDAR