BEGIN:VCALENDAR
VERSION:2.0
PRODID:-//eventon.com NONSGML v1.0//EN
CALSCALE:GREGORIAN
METHOD:PUBLISH
BEGIN:VEVENT
UID:69e6947212c91
DTSTAMP:20260420T210242Z
DTSTART:20251008T133000Z
DTEND:20251008T193000Z
LOCATION:Golfclub Ravensberger Land e.V. Golfclub Ravensberger Land e.V.
SUMMARY:MensDay
DESCRIPTION:MensDay Einzel &#8211; ZählspielMax &#8211; 18-Loch\nhttps://w
 ww.golfclub-ravensberger-land.de/termine/mensday-20/
URL:https://www.golfclub-ravensberger-land.de/termine/mensday-20/
END:VEVENT
END:VCALENDAR