BEGIN:VCALENDAR
VERSION:2.0
PRODID:-//eventon.com NONSGML v1.0//EN
CALSCALE:GREGORIAN
METHOD:PUBLISH
BEGIN:VEVENT
UID:69e68c1b4bc07
DTSTAMP:20260420T202707Z
DTSTART:20250725T164000Z
DTEND:20250725T194000Z
LOCATION:Golfclub Ravensberger Land e.V. Golfclub Ravensberger Land e.V.
SUMMARY:5. Mercedes-Benz AWGC
DESCRIPTION:5. Mercedes-Benz AWGC\,  Anmeldung unter awgc.de Einzel &#8211;
  Stableford &#8211; 9-Loch\nhttps://www.golfclub-ravensberger-land.de/termi
 ne/5-mercedes-benz-awgc-anmeldung-unter-awgc-de/
URL:https://www.golfclub-ravensberger-land.de/termine/5-mercedes-benz-awgc-anmeldung-unter-awgc-de/
END:VEVENT
END:VCALENDAR