BEGIN:VCALENDAR
VERSION:2.0
PRODID:-//eventon.com NONSGML v1.0//EN
CALSCALE:GREGORIAN
METHOD:PUBLISH
BEGIN:VEVENT
UID:69e697c7d1fdc
DTSTAMP:20260420T211655Z
DTSTART:20250808T162000Z
DTEND:20250808T192000Z
LOCATION:Golfclub Ravensberger Land e.V. Golfclub Ravensberger Land e.V.
SUMMARY:6. Mercedes-Benz AWGC
DESCRIPTION:6. Mercedes-Benz AWGC\,  Anmeldung unter awgc.de Einzel &#8211;
  Stableford &#8211; 9-Loch\nhttps://www.golfclub-ravensberger-land.de/termi
 ne/6-mercedes-benz-awgc-anmeldung-unter-awgc-de/
URL:https://www.golfclub-ravensberger-land.de/termine/6-mercedes-benz-awgc-anmeldung-unter-awgc-de/
END:VEVENT
END:VCALENDAR