BEGIN:VCALENDAR
VERSION:2.0
PRODID:-//eventon.com NONSGML v1.0//EN
CALSCALE:GREGORIAN
METHOD:PUBLISH
BEGIN:VEVENT
UID:69e6aefb1384d
DTSTAMP:20260420T225555Z
DTSTART:20250920T074000Z
DTEND:20250920T104000Z
LOCATION:Golfclub Ravensberger Land e.V. Golfclub Ravensberger Land e.V.
SUMMARY:5. Early Bird by PlanetGolf 9L
DESCRIPTION:5. Early Bird by PlanetGolf 9L Einzel &#8211; ZählspielMax &#8
 211; 9-Loch\nhttps://www.golfclub-ravensberger-land.de/termine/5-early-bird
 -by-planetgolf-9l-2/
URL:https://www.golfclub-ravensberger-land.de/termine/5-early-bird-by-planetgolf-9l-2/
END:VEVENT
END:VCALENDAR