BEGIN:VCALENDAR
VERSION:2.0
PRODID:-//eventon.com NONSGML v1.0//EN
CALSCALE:GREGORIAN
METHOD:PUBLISH
BEGIN:VEVENT
UID:69e6afb81bb93
DTSTAMP:20260420T225904Z
DTSTART:20250615T090000Z
DTEND:20250615T150000Z
LOCATION:Golfclub Ravensberger Land e.V. Golfclub Ravensberger Land e.V.
SUMMARY:WUR-Monatscup - Race to Fleesensee
DESCRIPTION:WUR-Monatscup &#8211; Race to Fleesensee Einzel &#8211; Zählsp
 iel und Stableford- 18-Loch\nhttps://www.golfclub-ravensberger-land.de/term
 ine/wur-monatscup-race-to-fleesensee-4/
URL:https://www.golfclub-ravensberger-land.de/termine/wur-monatscup-race-to-fleesensee-4/
END:VEVENT
END:VCALENDAR