BEGIN:VCALENDAR
VERSION:2.0
PRODID:-//eventon.com NONSGML v1.0//EN
CALSCALE:GREGORIAN
METHOD:PUBLISH
BEGIN:VEVENT
UID:69e68a3fa16af
DTSTAMP:20260420T201911Z
DTSTART:20250921T090000Z
DTEND:20250921T150000Z
LOCATION:Golfclub Ravensberger Land e.V. Golfclub Ravensberger Land e.V.
SUMMARY:WUR-Monatscup - Race to Fleesensee
DESCRIPTION:WUR-Monatscup &#8211; Race to Fleesensee Einzel &#8211; Zählsp
 iel und Stableford &#8211; 18-Loch\nhttps://www.golfclub-ravensberger-land.
 de/termine/wur-monatscup-race-to-fleesensee-7/
URL:https://www.golfclub-ravensberger-land.de/termine/wur-monatscup-race-to-fleesensee-7/
END:VEVENT
END:VCALENDAR