BEGIN:VCALENDAR
VERSION:2.0
PRODID:-//eventon.com NONSGML v1.0//EN
CALSCALE:GREGORIAN
METHOD:PUBLISH
BEGIN:VEVENT
UID:69e6af7f3d7b7
DTSTAMP:20260420T225807Z
DTSTART:20250706T050000Z
DTEND:20250706T110000Z
LOCATION:Golfclub Ravensberger Land e.V. Golfclub Ravensberger Land e.V.
SUMMARY:SONNENWENDTURNIER
DESCRIPTION:SONNENWENDTURNIER Scramble &#8211; Zählspiel &#8211; 18-Loch\n
 https://www.golfclub-ravensberger-land.de/termine/sonnenwendturnier-5/
URL:https://www.golfclub-ravensberger-land.de/termine/sonnenwendturnier-5/
END:VEVENT
END:VCALENDAR