BEGIN:VCALENDAR
VERSION:2.0
PRODID:-//eventon.com NONSGML v1.0//EN
CALSCALE:GREGORIAN
METHOD:PUBLISH
BEGIN:VEVENT
UID:69e687005e054
DTSTAMP:20260420T200520Z
DTSTART:20250609T090000Z
DTEND:20250609T215900Z
LOCATION:Golfclub Ravensberger Land e.V. Golfclub Ravensberger Land e.V.
SUMMARY:Preis des Präsidenten
DESCRIPTION:Preis des Präsidenten Chapman-4er &nbsp;\nhttps://www.golfclub
 -ravensberger-land.de/termine/preis-des-praesidenten-6/
URL:https://www.golfclub-ravensberger-land.de/termine/preis-des-praesidenten-6/
END:VEVENT
END:VCALENDAR