BEGIN:VCALENDAR
VERSION:2.0
PRODID:-//eventon.com NONSGML v1.0//EN
CALSCALE:GREGORIAN
METHOD:PUBLISH
BEGIN:VEVENT
UID:69e6a359da3b1
DTSTAMP:20260420T220617Z
DTSTART:20250629T090000Z
DTEND:20250629T150000Z
LOCATION:Golfclub Ravensberger Land e.V. Golfclub Ravensberger Land e.V.
SUMMARY:Jung und nicht so jung
DESCRIPTION:Turnier für das Spiel der Generationen\nhttps://www.golfclub-r
 avensberger-land.de/termine/jung-und-nicht-so-jung/
URL:https://www.golfclub-ravensberger-land.de/termine/jung-und-nicht-so-jung/
END:VEVENT
END:VCALENDAR