BEGIN:VCALENDAR
VERSION:2.0
PRODID:-//eventon.com NONSGML v1.0//EN
CALSCALE:GREGORIAN
METHOD:PUBLISH
BEGIN:VEVENT
UID:69e699a498674
DTSTAMP:20260420T212452Z
DTSTART:20250719T070000Z
DTEND:20250719T130000Z
LOCATION:Golfclub Ravensberger Land e.V. Golfclub Ravensberger Land e.V.
SUMMARY:Geschlechterkampf 6.0
DESCRIPTION:\nhttps://www.golfclub-ravensberger-land.de/termine/geschlechte
 rkampf-6-0/
URL:https://www.golfclub-ravensberger-land.de/termine/geschlechterkampf-6-0/
END:VEVENT
END:VCALENDAR