BEGIN:VCALENDAR
VERSION:2.0
PRODID:-//eventon.com NONSGML v1.0//EN
CALSCALE:GREGORIAN
METHOD:PUBLISH
BEGIN:VEVENT
UID:69e6893c682c7
DTSTAMP:20260420T201452Z
DTSTART:20250712T090000Z
DTEND:20250712T130000Z
LOCATION:Golfclub Ravensberger Land e.V. Golfclub Ravensberger Land e.V.
SUMMARY:Sommerfest / Planetgolf-Turnier
DESCRIPTION:\nhttps://www.golfclub-ravensberger-land.de/termine/sommerfest-
 planetgolf-turnier/
URL:https://www.golfclub-ravensberger-land.de/termine/sommerfest-planetgolf-turnier/
END:VEVENT
END:VCALENDAR