BEGIN:VCALENDAR
VERSION:2.0
PRODID:-//eventon.com NONSGML v1.0//EN
CALSCALE:GREGORIAN
METHOD:PUBLISH
BEGIN:VEVENT
UID:69e6af6b58349
DTSTAMP:20260420T225747Z
DTSTART:20250905T080000Z
DTEND:20250907T215900Z
LOCATION:
SUMMARY:Clubmeisterschaften
DESCRIPTION:Clubmeisterschaften\nhttps://www.golfclub-ravensberger-land.de/
 termine/clubmeisterschaften-3/
URL:https://www.golfclub-ravensberger-land.de/termine/clubmeisterschaften-3/
END:VEVENT
END:VCALENDAR