BEGIN:VCALENDAR
VERSION:2.0
PRODID:-//eventon.com NONSGML v1.0//EN
CALSCALE:GREGORIAN
METHOD:PUBLISH
BEGIN:VEVENT
UID:69e6af6b5838c
DTSTAMP:20260420T225747Z
DTSTART:20250824
DTEND:20250825
LOCATION:
SUMMARY:10. Golf-Benefizturnier der Lions Clubs Enger-Spenge
DESCRIPTION: \nhttps://www.golfclub-ravensberger-land.de/termine/10-golf-b
 enefizturnier-der-lions-clubs-enger-spenge/
URL:https://www.golfclub-ravensberger-land.de/termine/10-golf-benefizturnier-der-lions-clubs-enger-spenge/
END:VEVENT
END:VCALENDAR