BEGIN:VCALENDAR
VERSION:2.0
PRODID:-//eventon.com NONSGML v1.0//EN
CALSCALE:GREGORIAN
METHOD:PUBLISH
BEGIN:VEVENT
UID:69e6af652cafe
DTSTAMP:20260420T225741Z
DTSTART:20250601T090000Z
DTEND:20250601T150000Z
LOCATION:Golfclub Ravensberger Land e.V. Golfclub Ravensberger Land e.V.
SUMMARY:WUR-Monatscup - Race to Fleesensee (Nachholtermin)
DESCRIPTION:WUR-Monatscup &#8211; Race to Fleesensee Einzel &#8211; Zählsp
 iel und Stableford &#8211; 18-Loch\nhttps://www.golfclub-ravensberger-land.
 de/termine/wur-monatscup-race-to-fleesensee-nachholtermin/
URL:https://www.golfclub-ravensberger-land.de/termine/wur-monatscup-race-to-fleesensee-nachholtermin/
END:VEVENT
END:VCALENDAR