BEGIN:VCALENDAR
VERSION:2.0
PRODID:-//eventon.com NONSGML v1.0//EN
CALSCALE:GREGORIAN
METHOD:PUBLISH
BEGIN:VEVENT
UID:69e7f943f3b1b
DTSTAMP:20260421T222507Z
DTSTART:20250810T110000Z
DTEND:20250810T180000Z
LOCATION:
SUMMARY:JOKA Matchday Plus Tagesturnier
DESCRIPTION:Ausschreibung: Startzeit 11 Uhr Tee 1\nhttps://www.golfclub-rav
 ensberger-land.de/termine/joka-matchday-plus-tagesturnier/
URL:https://www.golfclub-ravensberger-land.de/termine/joka-matchday-plus-tagesturnier/
END:VEVENT
END:VCALENDAR