BEGIN:VCALENDAR
VERSION:2.0
PRODID:-//eventon.com NONSGML v1.0//EN
CALSCALE:GREGORIAN
METHOD:PUBLISH
BEGIN:VEVENT
UID:69e5c975e053a
DTSTAMP:20260420T063637Z
DTSTART:20250913T090000Z
DTEND:20250913T180000Z
LOCATION:Golfclub Ravensberger Land e.V. Golfclub Ravensberger Land e.V.
SUMMARY:Ladies Cup OWL
DESCRIPTION:\nhttps://www.golfclub-ravensberger-land.de/termine/ladies-cup-
 owl/
URL:https://www.golfclub-ravensberger-land.de/termine/ladies-cup-owl/
END:VEVENT
END:VCALENDAR