BEGIN:VCALENDAR
VERSION:2.0
PRODID:-//eventon.com NONSGML v1.0//EN
CALSCALE:GREGORIAN
METHOD:PUBLISH
BEGIN:VEVENT
UID:69e5c8cdbb91a
DTSTAMP:20260420T063349Z
DTSTART:20250914T100000Z
DTEND:20250914T215900Z
LOCATION:Golfclub Ravensberger Land e.V. Golfclub Ravensberger Land e.V.
SUMMARY:Ravensberger 4er 2025
DESCRIPTION:Scramble (4er-Team)\,  Kanonenstart\,  Rundenverpflegung und ge
 selliges Zusammensein Startgeld 15 € Gäste 40 € &nbsp; &nbsp;\nhttps:/
 /www.golfclub-ravensberger-land.de/termine/ravensberger-4er-2025/
URL:https://www.golfclub-ravensberger-land.de/termine/ravensberger-4er-2025/
END:VEVENT
END:VCALENDAR