BEGIN:VCALENDAR
VERSION:2.0
PRODID:-//eventon.com NONSGML v1.0//EN
CALSCALE:GREGORIAN
METHOD:PUBLISH
BEGIN:VEVENT
UID:69e5c91ceb9f9
DTSTAMP:20260420T063508Z
DTSTART:20250927T093000Z
DTEND:20250927T215900Z
LOCATION:Golfclub Ravensberger Land e.V. Golfclub Ravensberger Land e.V.
SUMMARY:Wies'n4er 25
DESCRIPTION:Weitere Informationen folgen.\nhttps://www.golfclub-ravensberge
 r-land.de/termine/wiesn4er-25/
URL:https://www.golfclub-ravensberger-land.de/termine/wiesn4er-25/
END:VEVENT
END:VCALENDAR