BEGIN:VCALENDAR
VERSION:2.0
PRODID:-//eventon.com NONSGML v1.0//EN
CALSCALE:GREGORIAN
METHOD:PUBLISH
BEGIN:VEVENT
UID:69e5c922b8cea
DTSTAMP:20260420T063514Z
DTSTART:20251218T090000Z
DTEND:20251218T130000Z
LOCATION:
SUMMARY:Treibjagd
DESCRIPTION:Treibjagd\nhttps://www.golfclub-ravensberger-land.de/termine/tr
 eibjagd/
URL:https://www.golfclub-ravensberger-land.de/termine/treibjagd/
END:VEVENT
END:VCALENDAR