BEGIN:VCALENDAR
VERSION:2.0
PRODID:-//eventon.com NONSGML v1.0//EN
CALSCALE:GREGORIAN
METHOD:PUBLISH
BEGIN:VEVENT
UID:69e93350e3754
DTSTAMP:20260422T204504Z
DTSTART:20191031T100000Z
DTEND:20191031T120000Z
LOCATION:
SUMMARY:Seniors Day Damen
DESCRIPTION:Seniors Day Damen\nhttps://www.golfclub-ravensberger-land.de/te
 rmine/seniors-day-damen-15/
URL:https://www.golfclub-ravensberger-land.de/termine/seniors-day-damen-15/
END:VEVENT
END:VCALENDAR