BEGIN:VCALENDAR
VERSION:2.0
PRODID:-//eventon.com NONSGML v1.0//EN
CALSCALE:GREGORIAN
METHOD:PUBLISH
BEGIN:VEVENT
UID:69e5fd023b698
DTSTAMP:20260420T101634Z
DTSTART:20210708
DTEND:20210709
LOCATION:
SUMMARY:Greenkeeping: Aerifizierung
DESCRIPTION:Greenkeeping: Aerifizierung\nhttps://www.golfclub-ravensberger-
 land.de/termine/greenkeeping-aerifizierung/
URL:https://www.golfclub-ravensberger-land.de/termine/greenkeeping-aerifizierung/
END:VEVENT
END:VCALENDAR